BEGIN:VCALENDAR
VERSION:2.0
PRODID:-//wp-events-plugin.com//7.2.3.1//EN
TZID:America/New_York
X-WR-TIMEZONE:America/New_York
BEGIN:VEVENT
UID:11@nysyd.org
DTSTART;TZID=America/New_York:20161209T170000
DTEND;TZID=America/New_York:20161211T140000
DTSTAMP:20161211T023437Z
URL:https://nysyd.org/events/yda-winter-national-conference/
SUMMARY:YDA Winter National Conference
DESCRIPTION:Please join us for speakers\, trainings\, and the company of ot
 her Young Democrats in beautiful Memphis\, Tennessee.\n\nSchedule:\nhttps:
 //docs.google.com/document/u/1/d/1IndD_E3gwv37KVAb6dhwlkSzRix5oKobRfJow33D
 ero/edit?usp=sharing\n\nMeeting Registration:\nClick here at https://goo.g
 l/5I3FAe to register.
ATTACH;FMTTYPE=image/jpeg:https://nysyd.org/wp-content/uploads/2016/12/145
 70341_10157490120610580_5279774239409977660_n.png
CATEGORIES:Young Democrats of America
LOCATION:Sheraton Memphis Downtown Hotel\, 250 North Main Street\, Memphis\
 , TN\, 38103\, United States
GEO:35.1515061;-90.0495699
X-APPLE-STRUCTURED-LOCATION;VALUE=URI;X-ADDRESS=250 North Main Street\, Mem
 phis\, TN\, 38103\, United States;X-APPLE-RADIUS=100;X-TITLE=Sheraton Memp
 his Downtown Hotel:geo:35.1515061,-90.0495699
END:VEVENT
BEGIN:VTIMEZONE
TZID:America/New_York
X-LIC-LOCATION:America/New_York
BEGIN:STANDARD
DTSTART:20161106T010000
TZOFFSETFROM:-0400
TZOFFSETTO:-0500
TZNAME:EST
END:STANDARD
END:VTIMEZONE
END:VCALENDAR