BEGIN:VCALENDAR
VERSION:2.0
PRODID:-//wp-events-plugin.com//7.2.3.1//EN
TZID:America/New_York
X-WR-TIMEZONE:America/New_York
BEGIN:VEVENT
UID:123@nysyd.org
DTSTART;TZID=America/New_York:20171026T190000
DTEND;TZID=America/New_York:20171026T210000
DTSTAMP:20171007T180949Z
URL:https://nysyd.org/events/scyd-regular-meeting-2/
SUMMARY:SCYD Regular Meeting
DESCRIPTION:Saratoga Young Democrats General Meeting! 
CATEGORIES:New York State Young Democrats,Saratoga County Young Democrats
END:VEVENT
BEGIN:VTIMEZONE
TZID:America/New_York
X-LIC-LOCATION:America/New_York
BEGIN:DAYLIGHT
DTSTART:20170312T030000
TZOFFSETFROM:-0500
TZOFFSETTO:-0400
TZNAME:EDT
END:DAYLIGHT
END:VTIMEZONE
END:VCALENDAR