BEGIN:VCALENDAR
VERSION:2.0
PRODID:-//wp-events-plugin.com//7.2.3.1//EN
TZID:America/New_York
X-WR-TIMEZONE:America/New_York
BEGIN:VEVENT
UID:111@nysyd.org
DTSTART;TZID=America/New_York:20171011T173000
DTEND;TZID=America/New_York:20171011T183000
DTSTAMP:20171007T172243Z
URL:https://nysyd.org/events/phone-bank-for-endorsed-candidates/
SUMMARY:Phone Bank for Endorsed Candidates
DESCRIPTION:Come out and phone bank for endorsed candidates!
CATEGORIES:New York State Young Democrats
END:VEVENT
BEGIN:VTIMEZONE
TZID:America/New_York
X-LIC-LOCATION:America/New_York
BEGIN:DAYLIGHT
DTSTART:20170312T030000
TZOFFSETFROM:-0500
TZOFFSETTO:-0400
TZNAME:EDT
END:DAYLIGHT
END:VTIMEZONE
END:VCALENDAR