BEGIN:VCALENDAR
VERSION:2.0
PRODID:-//wp-events-plugin.com//7.2.3.1//EN
TZID:America/New_York
X-WR-TIMEZONE:America/New_York
BEGIN:VEVENT
UID:297@nysyd.org
DTSTART;TZID=America/New_York:20211212T200000
DTEND;TZID=America/New_York:20211212T230000
DTSTAMP:20211128T225001Z
URL:https://nysyd.org/events/nysyd-labor-task-force-lgbtq-caucus-movie-nig
 ht/
SUMMARY:NYSYD Labor Task Force/LGBTQ Caucus Movie Night
DESCRIPTION:Join the NYSYD Labor Task Force and LGBTQ+ Caucus for a showing
  of the 2014 film PRIDE on Zoom!\n\nAbout PRIDE: Based on a true story\, t
 he film depicts a group of lesbian and gay activists who raised money to h
 elp families affected by the British miners' strike in 1984\, at the outse
 t of what would become the Lesbians and Gays Support the Miners campaign a
 nd an unlikely friendship between two communities.\n\nSign up using the li
 nk here: https://forms.gle/L2Fy432ZbZ5Fut697
ATTACH;FMTTYPE=image/jpeg:https://nysyd.org/wp-content/uploads/2021/11/259
 758389_191255646528293_542632973580601490_n.jpg
CATEGORIES:Film Screening,Labor Task Force,LGBT Caucus
END:VEVENT
BEGIN:VTIMEZONE
TZID:America/New_York
X-LIC-LOCATION:America/New_York
BEGIN:STANDARD
DTSTART:20211107T010000
TZOFFSETFROM:-0400
TZOFFSETTO:-0500
TZNAME:EST
END:STANDARD
END:VTIMEZONE
END:VCALENDAR