BEGIN:VCALENDAR
VERSION:2.0
PRODID:-//wp-events-plugin.com//7.2.3.1//EN
TZID:America/New_York
X-WR-TIMEZONE:America/New_York
BEGIN:VEVENT
UID:22@nysyd.org
DTSTART;TZID=America/New_York:20170121T100000
DTEND;TZID=America/New_York:20170121T170000
DTSTAMP:20170119T033720Z
URL:https://nysyd.org/events/nysyd-eleanors-legacy-at-womens-march-on-nyc/
SUMMARY:NYSYD & Eleanor's Legacy at Women's March on NYC
DESCRIPTION:Join the New York State Young Democrats and Eleanor's Legacy at
  the Women's March on NYC!\n\nFor those of you who cannot make it down to 
 our Nation's Capital for Inauguration Weekend\, we offer this local altern
 ative. We will march to let the new occupant in the White House know we st
 and for civil rights and equality for all!\n\nWe will be meeting on the co
 rner of 47th St and 2nd Ave on either the east or west side. We are expect
 ing an extremely large crowd so plan to arrive by 10 AM!\n\nCome be a part
  of this historic event!\n\nFor more information\, please visit https://w
 ww.facebook.com/events/404038609938183/.
ATTACH;FMTTYPE=image/jpeg:https://nysyd.org/wp-content/uploads/2017/01/156
 65772_10101210491851754_8647183929841017241_n.jpg
CATEGORIES:New York State Young Democrats
LOCATION:One Dag Hammarskjold Plaza\, 1 Dag Hammarskjold Plaza\, New York\,
  New York\, 10017\, United States
GEO:40.7535451;-73.97005230000002
X-APPLE-STRUCTURED-LOCATION;VALUE=URI;X-ADDRESS=1 Dag Hammarskjold Plaza\, 
 New York\, New York\, 10017\, United States;X-APPLE-RADIUS=100;X-TITLE=One
  Dag Hammarskjold Plaza:geo:40.7535451,-73.97005230000002
END:VEVENT
BEGIN:VTIMEZONE
TZID:America/New_York
X-LIC-LOCATION:America/New_York
BEGIN:STANDARD
DTSTART:20161106T010000
TZOFFSETFROM:-0400
TZOFFSETTO:-0500
TZNAME:EST
END:STANDARD
END:VTIMEZONE
END:VCALENDAR