BEGIN:VCALENDAR
VERSION:2.0
PRODID:-//wp-events-plugin.com//7.2.3.1//EN
TZID:America/New_York
X-WR-TIMEZONE:America/New_York
BEGIN:VEVENT
UID:248@nysyd.org
DTSTART;TZID=America/New_York:20201018T120000
DTEND;TZID=America/New_York:20201018T180000
DTSTAMP:20201012T165457Z
URL:https://nysyd.org/events/new-yorkers-for-biden-day-of-action/
SUMMARY:New Yorkers for Biden Day of Action
DESCRIPTION:\n\n\n\n\n\n\nWant to make your impact before election day? Joi
 n the Young New Yorkers Day of Action on Sunday\, October 18\, co-hosted b
 y New York for Biden+Harris League 46 and New York State Young Democrats. 
 It will be a full day of phone banks\, special guest appearances\, policy 
 talks\, and closing with a virtual gala and Get Out the Vote Rally. If you
  are a high school student\, college student\, recent graduate\, or young 
 professional\, you don't want to miss this event. Sign up now! The Zoom li
 nk will be sent to you prior to the event.\n\n\n\n\n\n\n
ATTACH;FMTTYPE=image/jpeg:https://nysyd.org/wp-content/uploads/2020/10/201
 90518_launch_philadelphia_pa_schultz_0001-1_20190613205909242872.jpg
CATEGORIES:League 46,March/Rally,New York Young Professionals for
 Biden,Phonebank
END:VEVENT
BEGIN:VTIMEZONE
TZID:America/New_York
X-LIC-LOCATION:America/New_York
BEGIN:DAYLIGHT
DTSTART:20200308T030000
TZOFFSETFROM:-0500
TZOFFSETTO:-0400
TZNAME:EDT
END:DAYLIGHT
END:VTIMEZONE
END:VCALENDAR