BEGIN:VCALENDAR
VERSION:2.0
PRODID:-//wp-events-plugin.com//7.2.3.1//EN
TZID:America/New_York
X-WR-TIMEZONE:America/New_York
BEGIN:VEVENT
UID:282@nysyd.org
DTSTART;TZID=America/New_York:20210629T200000
DTEND;TZID=America/New_York:20210629T210000
DTSTAMP:20210628T005902Z
URL:https://nysyd.org/events/disability-issues-caucus-june-quarterly-meeti
 ng/
SUMMARY:Disability issues Caucus June Quarterly Meeting
DESCRIPTION:We are going to be having our June quarterly meeting with membe
 rs of the caucus discussing what ideas they have for events/policy and oth
 er topics.
CATEGORIES:Albany County Young Democrats
END:VEVENT
BEGIN:VTIMEZONE
TZID:America/New_York
X-LIC-LOCATION:America/New_York
BEGIN:DAYLIGHT
DTSTART:20210314T030000
TZOFFSETFROM:-0500
TZOFFSETTO:-0400
TZNAME:EDT
END:DAYLIGHT
END:VTIMEZONE
END:VCALENDAR