BEGIN:VCALENDAR
VERSION:2.0
PRODID:-//wp-events-plugin.com//7.2.3.1//EN
TZID:America/New_York
X-WR-TIMEZONE:America/New_York
BEGIN:VEVENT
UID:196@nysyd.org
DTSTART;TZID=America/New_York:20200918T160000
DTEND;TZID=America/New_York:20200918T180000
DTSTAMP:20200912T202720Z
URL:https://nysyd.org/events/cdny-absentee-ballot-textbank/
SUMMARY:CDNY Absentee Ballot Textbank
DESCRIPTION:\n\n\n\n\n\n\nJoin CDNY for an absentee ballot textbank! No exp
 erience required.\n\n\n\n\n\n\n
CATEGORIES:College Democrats of New York,Textbank
END:VEVENT
BEGIN:VTIMEZONE
TZID:America/New_York
X-LIC-LOCATION:America/New_York
BEGIN:DAYLIGHT
DTSTART:20200308T030000
TZOFFSETFROM:-0500
TZOFFSETTO:-0400
TZNAME:EDT
END:DAYLIGHT
END:VTIMEZONE
END:VCALENDAR