BEGIN:VCALENDAR
VERSION:2.0
PRODID:-//wp-events-plugin.com//7.2.3.1//EN
TZID:America/New_York
X-WR-TIMEZONE:America/New_York
BEGIN:VEVENT
UID:138@nysyd.org
DTSTART;TZID=America/New_York:20171112T150000
DTEND;TZID=America/New_York:20171112T170000
DTSTAMP:20171103T010315Z
URL:https://nysyd.org/events/cd-19-candidate-forum/
SUMMARY:CD-19 Candidate Forum
DESCRIPTION:CD-19 Candidate Forum
CATEGORIES:New York State Young Democrats
LOCATION:Montgomery C. Smith Intermediate School\, 102 Harry Howard\, Hudso
 n\, New York\, 12534\, United States
GEO:42.25473340000001;-73.77913790000002
X-APPLE-STRUCTURED-LOCATION;VALUE=URI;X-ADDRESS=102 Harry Howard\, Hudson\,
  New York\, 12534\, United States;X-APPLE-RADIUS=100;X-TITLE=Montgomery C.
  Smith Intermediate School:geo:42.25473340000001,-73.77913790000002
END:VEVENT
BEGIN:VTIMEZONE
TZID:America/New_York
X-LIC-LOCATION:America/New_York
BEGIN:STANDARD
DTSTART:20171105T010000
TZOFFSETFROM:-0400
TZOFFSETTO:-0500
TZNAME:EST
END:STANDARD
END:VTIMEZONE
END:VCALENDAR