BEGIN:VCALENDAR
VERSION:2.0
PRODID:-//wp-events-plugin.com//7.2.3.1//EN
TZID:America/New_York
X-WR-TIMEZONE:America/New_York
BEGIN:VEVENT
UID:27@nysyd.org
DTSTART;TZID=America/New_York:20170204T180000
DTEND;TZID=America/New_York:20170204T210000
DTSTAMP:20170119T034534Z
URL:https://nysyd.org/events/2017-kickoff-comedy-night-fundraiser/
SUMMARY:2017 Kickoff Comedy Night & Fundraiser
DESCRIPTION:Please join us for the Dutchess County Young Democrats 2017 Kic
 koff Comedy Night &amp\; Fundraiser. We will be honoring our past Presiden
 t\, Dylan Miyoshi &amp\; Dutchess County Legislator Francena Amparo for th
 eir tireless advocacy for the Democratic Party and the people of Dutchess 
 County. 6:00pm\, February 4\, 2017 * Coppola's Ristorante (Hyde Park) * 41
 67 Albany Post Road\, Hyde Park\, NY\, 12533 RSVP by ordering your tickets
  from the link below.\n\nTickets:\n$45 - Supporter\n$100 - Advocate\n$200 
 - Enthusiast\n$500 - Convention Sponsor\n\nQuestions? Please email dutches
 syoungdems@gmail.com or call (914) 456-1170.\n\nTo purchase tickets\, plea
 se visit https://secure.actblue.com/contribute/page/2017kickoffevent. For 
 more information\, please visit https://www.facebook.com/events/139999396
 6712464/.
ATTACH;FMTTYPE=image/jpeg:https://nysyd.org/wp-content/uploads/2017/01/159
 77987_1874620896089763_674169597732670347_n.jpg
CATEGORIES:Dutchess County Young Democrats
LOCATION:Coppola's Italian American Bistro\, 4167 Albany Post Road\, Hyde P
 ark\, NY\, 12538\, United States
GEO:41.7757235;-73.93131640000001
X-APPLE-STRUCTURED-LOCATION;VALUE=URI;X-ADDRESS=4167 Albany Post Road\, Hyd
 e Park\, NY\, 12538\, United States;X-APPLE-RADIUS=100;X-TITLE=Coppola's I
 talian American Bistro:geo:41.7757235,-73.93131640000001
END:VEVENT
BEGIN:VTIMEZONE
TZID:America/New_York
X-LIC-LOCATION:America/New_York
BEGIN:STANDARD
DTSTART:20161106T010000
TZOFFSETFROM:-0400
TZOFFSETTO:-0500
TZNAME:EST
END:STANDARD
END:VTIMEZONE
END:VCALENDAR